BEGIN:VCALENDAR
VERSION:2.0
PRODID:-//Tukios.com/
BEGIN:VEVENT
UID:0ec0e0e3-a2f9-497b-9887-cb45ca65d3ce@www.ballardsunderfuneral.com
DTSTAMP:20260421T180542Z
DTSTART:20260501T203000Z
DTEND:20260501T213000Z
SUMMARY:Committal Service
DESCRIPTION:Committal Service at 3:30 pm at St. Michael Catholic 
	Cemetery, Prior Lake, MN.
URL:https://www.ballardsunderfuneral.com/obituaries/julie-segler
LOCATION: 5437 160th St SE  Prior Lake MN 
GEO:44.7168346;-93.4096205
END:VEVENT
END:VCALENDAR