BEGIN:VCALENDAR
VERSION:2.0
PRODID:-//Tukios.com/
BEGIN:VEVENT
UID:8d6b1c66-a10e-4f50-ab3d-6686b6d1c695@www.ballardsunderfuneral.com
DTSTAMP:20260421T180147Z
DTSTART:20260501T180000Z
DTEND:20260501T200000Z
SUMMARY:Celebration of Life
DESCRIPTION:
URL:https://www.ballardsunderfuneral.com/obituaries/julie-segler
LOCATION:Ballard-Sunder Funeral & Cremation 833 Marschall Road  Shakopee 
	MN 55379
GEO:44.7910672;-93.5070646
END:VEVENT
END:VCALENDAR