BEGIN:VCALENDAR
VERSION:2.0
PRODID:-//Tukios.com/
BEGIN:VEVENT
UID:e41c12df-5858-4195-877d-486ceace8bc5@www.ballardsunderfuneral.com
DTSTAMP:20260421T024811Z
DTSTART:20260509T160000Z
DTEND:20260509T170000Z
SUMMARY:Celebration of Life
DESCRIPTION:
URL:https://www.ballardsunderfuneral.com/obituaries/diane-bjorgan-nee-lutz
LOCATION: 104 1st St W  Jordan MN 55352
GEO:44.666055;-93.6294879
END:VEVENT
END:VCALENDAR