BEGIN:VCALENDAR
VERSION:2.0
PRODID:-//Tukios.com/
BEGIN:VEVENT
UID:5f34ae6c-e8d9-47a2-99aa-103892efcfa5@www.ballardsunderfuneral.com
DTSTAMP:20260421T024714Z
DTSTART:20260509T150000Z
DTEND:20260509T160000Z
SUMMARY:Visitation
DESCRIPTION:
URL:https://www.ballardsunderfuneral.com/obituaries/diane-bjorgan-nee-lutz
LOCATION: 104 1st St W  Jordan MN 55352
GEO:44.666055;-93.6294879
END:VEVENT
END:VCALENDAR