BEGIN:VCALENDAR
VERSION:2.0
PRODID:-//Tukios.com/
BEGIN:VEVENT
UID:dc70b85f-b816-4eb7-b07f-397fc210f788@www.ballardsunderfuneral.com
DTSTAMP:20260422T190612Z
DTSTART:20260502T160000Z
DTEND:20260502T170000Z
SUMMARY:Celebration of Life
DESCRIPTION:A Celebration of Life will be held at 11:00 AM on Saturday, 
	May 2, 2026 at Ballard-Sunder Funeral & Cremation, 833 Marschall Rd, 
	Shakopee, MN. Barb will be laid to rest at the Church of St. Michael 
	Cemetery in Farmington, MN.
URL:https://www.ballardsunderfuneral.com/obituaries/barbara-aronen
LOCATION:Ballard-Sunder Funeral & Cremation 833 Marschall Road  Shakopee 
	MN 55379
GEO:44.7910672;-93.5070646
END:VEVENT
END:VCALENDAR